BEGIN:VCALENDAR
VERSION:2.0
PRODID:-//pretix//ESKALATION_Pretix//
BEGIN:VTIMEZONE
TZID:Europe/Berlin
BEGIN:STANDARD
DTSTART:20001029T040000
RRULE:FREQ=YEARLY;BYDAY=-1SU;BYMONTH=10
TZNAME:CET
TZOFFSETFROM:+0200
TZOFFSETTO:+0100
END:STANDARD
BEGIN:DAYLIGHT
DTSTART:20000326T030000
RRULE:FREQ=YEARLY;BYDAY=-1SU;BYMONTH=3
TZNAME:CEST
TZOFFSETFROM:+0100
TZOFFSETTO:+0200
END:DAYLIGHT
END:VTIMEZONE
BEGIN:VEVENT
UID:pretix-untergang-oidorno-0@tickets.eskalation.rocks
DTSTART;TZID=Europe/Berlin:20191011T190000
DTEND;TZID=Europe/Berlin:20191011T200000
DESCRIPTION:Tickets: https://tickets.eskalation.rocks/untergang/oidorno/\nV
 eranstalter: Untergang-Konzerte
DTSTAMP:20260423T221716Z
LOCATION:AZ-Mülheim\, Auerstr. 51\, 45468 Mülheim
SUMMARY:Oidorno + Curb Stomp + 84breakdown - AZ Mülheim
END:VEVENT
END:VCALENDAR
